Workbook
Name m: Assumptions!$D$12
Name Scenario: Scenarios!$D$11
Name t: Assumptions!$D$13

Sheet Exam Info
A8: Financial Modeling Institute – AFM Level 1 Exam
A9: Exam Information
A12: Candidate Name:
A14: Exam Number:

Sheet Cover
A1: ="RUNNING SCENARIO "&Scenario -> RUNNING SCENARIO
B2: Henderson Manufacturing
B3: Cover Page
A6: Date | B6: 44810
A8: Name | B8: Danielle Stein Fairhurst
A10: Purpose | B10: Henderson Model FMI Exam Case Study
A12: Time Frame | B12: Five year forecast 2018 - 2022

Sheet Summary
A1: ="RUNNING SCENARIO "&Scenario -> RUNNING SCENARIO
B2: Henderson Manufacturing
A3: SUMMARY | B3: Summary
B5: ($ Millions)
G6: ACTUAL | J6: PROJECTIONS
G7: 2015 | H7: =G7+1 -> 2016 | I7: =H7+1 -> 2017 | J7: =I7+1 -> 2018 | K7: =J7+1 -> 2019 | L7: =K7+1 -> 2020 | M7: =L7+1 -> 2021 | N7: =M7+1 -> 2022
A11: FINANCIAL STATEMENTS SUMMARY

Sheet Assumptions
A1: ="RUNNING SCENARIO "&Scenario -> RUNNING SCENARIO
B2: Henderson Manufacturing
B3: Assumptions
B5: ($ Millions)
G6: ACTUAL | J6: PROJECTIONS
D7: UNITS | G7: 2015 | H7: =G7+1 -> 2016 | I7: =H7+1 -> 2017 | J7: =I7+1 -> 2018 | K7: =J7+1 -> 2019 | L7: =K7+1 -> 2020 | M7: =L7+1 -> 2021 | N7: =M7+1 -> 2022
A11: GLOBAL ASSUMPTIONS
B12: Millions | D12: 1000000
B13: Thousands | D13: 1000
B14: Inflation | D14: % | J14: 0.02 | K14: 0.02 | L14: 0.02 | M14: 0.02 | N14: 0.02
A16: SALES ASSUMPTIONS
B17: Gross Revenue per unit | D17: $ per unit | I17: 694.4
B18: Less Freight & Warehousing | D18: $ per unit | I18: 100 | J18: =I18*(1+J14) -> 102 | K18: =J18*(1+K14) -> 104.04 | L18: =K18*(1+L14) -> 106.1208 | M18: =L18*(1+M14) -> 108.24322 | N18: =M18*(1+N14) -> 110.40808
B19: Net revenue | D19: $ per unit | I19: =I17-I18 -> 594.4
B21: Sales Prices | D21: $ | J21: 800 | K21: 725 | L21: 825 | M21: 800 | N21: 750
B22: Factory Capacity | D22: units | J22: 420000 | K22: 420000 | L22: 420000 | M22: 420000 | N22: 420000
B23: Sales Volume increase | D23: % | J23: 0.05 | K23: 0.04 | L23: 0.04 | M23: 0.04 | N23: 0.04
A25: OPERATING COST ASSUMPTIONS
B26: Variable Costs
B27: Raw Materials | D27: $ per unit | J27: 226 | K27: =J27*(1+K$14) -> 230.52 | L27: =K27*(1+L$14) -> 235.1304 | M27: =L27*(1+M$14) -> 239.83301 | N27: =M27*(1+N$14) -> 244.62967
B28: Utilities | D28: $ per unit | J28: 66.2 | K28: =J28*(1+K$14) -> 67.524 | L28: =K28*(1+L$14) -> 68.87448 | M28: =L28*(1+M$14) -> 70.25197 | N28: =M28*(1+N$14) -> 71.657009
B29: Total Variable Costs | D29: $ per unit | J29: =SUM(J27:J28) -> 292.2 | K29: =SUM(K27:K28) -> 298.044 | L29: =SUM(L27:L28) -> 304.00488 | M29: =SUM(M27:M28) -> 310.08498 | N29: =SUM(N27:N28) -> 316.28668
B31: Fixed Costs
B32: Rent | D32: $m | J32: 23.5 | K32: =J32*(1+K$14) -> 23.97 | L32: =K32*(1+L$14) -> 24.4494 | M32: =L32*(1+M$14) -> 24.938388 | N32: =M32*(1+N$14) -> 25.437156
B33: Operating Labour | D33: $m | J33: 43.5 | K33: =J33*(1+K$14) -> 44.37 | L33: =K33*(1+L$14) -> 45.2574 | M33: =L33*(1+M$14) -> 46.162548 | N33: =M33*(1+N$14) -> 47.085799
B34: Other | D34: $m | J34: 2 | K34: =J34*(1+K$14) -> 2.04 | L34: =K34*(1+L$14) -> 2.0808 | M34: =L34*(1+M$14) -> 2.122416 | N34: =M34*(1+N$14) -> 2.1648643
B35: Total Fixed Costs | J35: =SUM(J32:J34) -> 69 | K35: =SUM(K32:K34) -> 70.38 | L35: =SUM(L32:L34) -> 71.7876 | M35: =SUM(M32:M34) -> 73.223352 | N35: =SUM(N32:N34) -> 74.687819
B37: SG&A | D37: $m | J37: 3.9 | K37: =J37*(1+K$14) -> 3.978 | L37: =K37*(1+L$14) -> 4.05756 | M37: =L37*(1+M$14) -> 4.1387112 | N37: =M37*(1+N$14) -> 4.2214854
A40: CAPEX & DEPRECIATION ASSUMPTIONS
B41: New capex | D41: $m | J41: 16 | K41: 17 | L41: 17.3 | M41: 17.5 | N41: 18
A42: Straight-line depreciation is used
B43: Useful Life
B44: Existing assets | C44: 25 | D44: years
B45: New assets | C45: 30 | D45: years
C46: It is assumed that useful life will not be less than 5 years

Sheet Scenarios
A1: ="RUNNING SCENARIO "&Scenario -> RUNNING SCENARIO
B2: Henderson Manufacturing
B3: Scenarios
B5: ($ Millions)
G6: ACTUAL | J6: PROJECTIONS
G7: 2015 | H7: =G7+1 -> 2016 | I7: =H7+1 -> 2017 | J7: =I7+1 -> 2018 | K7: =J7+1 -> 2019 | L7: =K7+1 -> 2020 | M7: =L7+1 -> 2021 | N7: =M7+1 -> 2022
B11: SELECT SCENARIO:

Sheet Fin Stat
A1: ="RUNNING SCENARIO "&Scenario -> RUNNING SCENARIO
B2: Henderson Manufacturing
B3: Income Statement
B5: ($ Millions)
G6: ACTUAL | J6: PROJECTIONS
G7: 2015 | H7: =G7+1 -> 2016 | I7: =H7+1 -> 2017 | J7: =I7+1 -> 2018 | K7: =J7+1 -> 2019 | L7: =K7+1 -> 2020 | M7: =L7+1 -> 2021 | N7: =M7+1 -> 2022
C9: Gross Revenue | G9: 244.8 | H9: 269.3 | I9: 239.2 | J9: =Revenue!J24 -> 289.35484 | K9: =Revenue!K24 -> 272.71694 | L9: =Revenue!L24 -> 322.74639 | M9: =Revenue!M24 -> 325.48484 | N9: =Revenue!N24 -> 315
C10: Freight & Warehousing | G10: 31.3 | H10: 32.7 | I10: 34.4 | J10: =Revenue!J25 -> 36.892742 | K10: =Revenue!K25 -> 39.135821 | L10: =Revenue!L25 -> 41.515279 | M10: =Revenue!M25 -> 44.039407 | N10: =Revenue!N25 -> 46.371394
C11: Net Revenue | G11: =G9-G10 -> 213.5 | H11: =H9-H10 -> 236.6 | I11: =I9-I10 -> 204.8 | J11: =J9-J10 -> 252.4621 | K11: =K9-K10 -> 233.58111 | L11: =L9-L10 -> 281.23111 | M11: =M9-M10 -> 281.44543 | N11: =N9-N10 -> 268.62861
C13: Cost of Sales | G13: 159.9 | H13: 164.6 | I13: 167.9 | J13: =COS!J31 -> 174.68685 | K13: =COS!K31 -> 182.49262 | L13: =COS!L31 -> 190.71666 | M13: =COS!M31 -> 199.3833 | N13: =COS!N31 -> 207.52822
C14: SG&A | G14: 3.4 | H14: 3.6 | I14: 3.8 | J14: =COS!J33 -> 3.9 | K14: =COS!K33 -> 3.978 | L14: =COS!L33 -> 4.05756 | M14: =COS!M33 -> 4.1387112 | N14: =COS!N33 -> 4.2214854
C15: Total Costs | G15: =SUM(G13:G14) -> 163.3 | H15: =SUM(H13:H14) -> 168.2 | I15: =SUM(I13:I14) -> 171.7 | J15: =SUM(J13:J14) -> 178.58685 | K15: =SUM(K13:K14) -> 186.47062 | L15: =SUM(L13:L14) -> 194.77422 | M15: =SUM(M13:M14) -> 203.52201 | N15: =SUM(N13:N14) -> 211.74971
C17: Cost Adjustments - Gain/(Loss) | G17: 0 | H17: 0 | I17: 0
C18: EBITDA | G18: =G11-G15+G17 -> 50.2 | H18: =H11-H15+H17 -> 68.4 | I18: =I11-I15+I17 -> 33.1 | J18: =J11-J15+J17 -> 73.875242 | K18: =K11-K15+K17 -> 47.110499 | L18: =L11-L15+L17 -> 86.456886 | M18: =M11-M15+M17 -> 77.923421 | N18: =N11-N15+N17 -> 56.878897
C20: Depreciation | G20: 15.4 | H20: 15.5 | I20: 15.8 | J20: =Depn!J28 -> 16.174667 | K20: =Depn!K28 -> 16.724667 | L20: =Depn!L28 -> 17.296333 | M20: =Depn!M28 -> 17.876333 | N20: =Depn!N28 -> 18.468
C21: EBIT | G21: =G18-G20 -> 34.8 | H21: =H18-H20 -> 52.9 | I21: =I18-I20 -> 17.3 | J21: =J18-J20 -> 57.700575 | K21: =K18-K20 -> 30.385833 | L21: =L18-L20 -> 69.160553 | M21: =M18-M20 -> 60.047088 | N21: =N18-N20 -> 38.410897
C23: Interest Expense | G23: 15 | H23: 15 | I23: 14
C24: EBT | G24: =G21-G23 -> 19.8 | H24: =H21-H23 -> 37.9 | I24: =I21-I23 -> 3.3
C26: Current Taxes | G26: 3 | H26: 8 | I26: 0
C27: Deferred Income Taxes | G27: 2.7 | H27: 6.2 | I27: 1.1
C28: Total Income Taxes | G28: =SUM(G26:G27) -> 5.7 | H28: =SUM(H26:H27) -> 14.2 | I28: =SUM(I26:I27) -> 1.1
C30: Net Income to Common | G30: =G24-G28 -> 14.1 | H30: =H24-H28 -> 23.7 | I30: =I24-I28 -> 2.2
B36: =B2 -> Henderson Manufacturing
B37: Cash Flow Statement
B39: ($ Millions)
G41: =G7 -> 2015 | H41: =H7 -> 2016 | I41: =I7 -> 2017
B43: Operating Activities
C44: Net Income | G44: 14.1 | H44: 23.7 | I44: 2.2
C45: Depreciation | G45: 15.4 | H45: 15.5 | I45: 15.8 | J45: =Depn!J28 -> 16.174667 | K45: =Depn!K28 -> 16.724667 | L45: =Depn!L28 -> 17.296333 | M45: =Depn!M28 -> 17.876333 | N45: =Depn!N28 -> 18.468
C46: Deferred Income Taxes | G46: 2.7 | H46: 6.2 | I46: 1.1
C47: Changes in Working Capital | G47: 0 | H47: 0 | I47: 0
C48: Operating Cash Flow | G48: =SUM(G44:G47) -> 32.2 | H48: =SUM(H44:H47) -> 45.4 | I48: =SUM(I44:I47) -> 19.1
B51: Investing Activities
C52: CAPEX | G52: -14.1 | H52: -15 | I52: -15.5
C53: Other | G53: -5 | H53: 4 | I53: 3
C54: Investing Cash Flow | G54: =SUM(G52:G53) -> -19.1 | H54: =SUM(H52:H53) -> -11 | I54: =SUM(I52:I53) -> -12.5
B57: Financing Activities
C58: Revolver Issuance / (Repayment) | G58: 0 | H58: 0 | I58: 0
C59: Total Term Debt Issuance / (Repayment) | G59: -25 | H59: -25 | I59: -25
C60: Common Shares Issuance/ (Buy-Back) | G60: 0 | H60: 0 | I60: 0
...

Sheet Revenue
A1: ="RUNNING SCENARIO "&Scenario -> RUNNING SCENARIO
B2: Henderson Manufacturing
B3: Revenue
G6: ACTUAL | J6: PROJECTIONS
G7: 2015 | H7: =G7+1 -> 2016 | I7: =H7+1 -> 2017 | J7: =I7+1 -> 2018 | K7: =J7+1 -> 2019 | L7: =K7+1 -> 2020 | M7: =L7+1 -> 2021 | N7: =M7+1 -> 2022
D9: UNITS
A10: Revenue Assumptions
B11: =Assumptions!B17 -> Gross Revenue per unit | D11: =Assumptions!D17 -> $ per unit | I11: =Assumptions!I17 -> 694.4 | J11: =Assumptions!J17 -> 0 | K11: =Assumptions!K17 -> 0 | L11: =Assumptions!L17 -> 0 | M11: =Assumptions!M17 -> 0 | N11: =Assumptions!N17 -> 0
B12: =Assumptions!B18 -> Less Freight & Warehousing | D12: =Assumptions!D18 -> $ per unit | I12: =Assumptions!I18 -> 100 | J12: =Assumptions!J18 -> 102 | K12: =Assumptions!K18 -> 104.04 | L12: =Assumptions!L18 -> 106.1208 | M12: =Assumptions!M18 -> 108.24322 | N12: =Assumptions!N18 -> 110.40808
B13: =Assumptions!B19 -> Net revenue | D13: =Assumptions!D19 -> $ per unit | I13: =Assumptions!I19 -> 594.4 | J13: =Assumptions!J19 -> 0 | K13: =Assumptions!K19 -> 0 | L13: =Assumptions!L19 -> 0 | M13: =Assumptions!M19 -> 0 | N13: =Assumptions!N19 -> 0
B15: =Assumptions!B21 -> Sales Prices | D15: =Assumptions!D21 -> $ | J15: =Assumptions!J21 -> 800 | K15: =Assumptions!K21 -> 725 | L15: =Assumptions!L21 -> 825 | M15: =Assumptions!M21 -> 800 | N15: =Assumptions!N21 -> 750
B16: =Assumptions!B22 -> Factory Capacity | D16: =Assumptions!D22 -> units | J16: =Assumptions!J22 -> 420000 | K16: =Assumptions!K22 -> 420000 | L16: =Assumptions!L22 -> 420000 | M16: =Assumptions!M22 -> 420000 | N16: =Assumptions!N22 -> 420000
B17: =Assumptions!B23 -> Sales Volume increase | D17: =Assumptions!D23 -> % | J17: =Assumptions!J23 -> 0.05 | K17: =Assumptions!K23 -> 0.04 | L17: =Assumptions!L23 -> 0.04 | M17: =Assumptions!M23 -> 0.04 | N17: =Assumptions!N23 -> 0.04
A19: Revenue Calculations
B20: Gross Revenue in 2017 | D20: $ | I20: ='Fin Stat'!I9*m -> 239200000
B21: Gross Revenue per unit | D21: $ | I21: =I11 -> 694.4
B22: Sales Volume | D22: units | I22: =I20/I21 -> 344470.05 | J22: =MIN(I22*(1+J17),J16) -> 361693.55 | K22: =MIN(J22*(1+K17),K16) -> 376161.29 | L22: =MIN(K22*(1+L17),L16) -> 391207.74 | M22: =MIN(L22*(1+M17),M16) -> 406856.05 | N22: =MIN(M22*(1+N17),N16) -> 420000
B24: Gross Revenue | D24: $m | I24: =I20/m -> 239.2 | J24: =(J22*J15)/m -> 289.35484 | K24: =(K22*K15)/m -> 272.71694 | L24: =(L22*L15)/m -> 322.74639 | M24: =(M22*M15)/m -> 325.48484 | N24: =(N22*N15)/m -> 315
B25: Less Freight & Warehousing | D25: $m | I25: =(I22*I12)/m -> 34.447005 | J25: =(J22*J12)/m -> 36.892742 | K25: =(K22*K12)/m -> 39.135821 | L25: =(L22*L12)/m -> 41.515279 | M25: =(M22*M12)/m -> 44.039407 | N25: =(N22*N12)/m -> 46.371394
B26: Net revenue | D26: $m | I26: =I24-I25 -> 204.753 | J26: =J24-J25 -> 252.4621 | K26: =K24-K25 -> 233.58111 | L26: =L24-L25 -> 281.23111 | M26: =M24-M25 -> 281.44543 | N26: =N24-N25 -> 268.62861
I27: ='Fin Stat'!I11-I26 -> 0.047004608

Sheet COS
A1: ="RUNNING SCENARIO "&Scenario -> RUNNING SCENARIO
B2: Henderson Manufacturing
B3: Cost of Sales
B5: ($ Millions)
G6: ACTUAL | J6: PROJECTIONS
G7: 2015 | H7: =G7+1 -> 2016 | I7: =H7+1 -> 2017 | J7: =I7+1 -> 2018 | K7: =J7+1 -> 2019 | L7: =K7+1 -> 2020 | M7: =L7+1 -> 2021 | N7: =M7+1 -> 2022
D9: UNITS
B10: COGS ASSUMPTIONS
B11: =Assumptions!B26 -> Variable Costs | D11: =Assumptions!D26 -> 0
B12: =Assumptions!B27 -> Raw Materials | D12: =Assumptions!D27 -> $ per unit | J12: =Assumptions!J27 -> 226 | K12: =Assumptions!K27 -> 230.52 | L12: =Assumptions!L27 -> 235.1304 | M12: =Assumptions!M27 -> 239.83301 | N12: =Assumptions!N27 -> 244.62967
B13: =Assumptions!B28 -> Utilities | D13: =Assumptions!D28 -> $ per unit | J13: =Assumptions!J28 -> 66.2 | K13: =Assumptions!K28 -> 67.524 | L13: =Assumptions!L28 -> 68.87448 | M13: =Assumptions!M28 -> 70.25197 | N13: =Assumptions!N28 -> 71.657009
B14: =Assumptions!B29 -> Total Variable Costs | D14: =Assumptions!D29 -> $ per unit | J14: =Assumptions!J29 -> 292.2 | K14: =Assumptions!K29 -> 298.044 | L14: =Assumptions!L29 -> 304.00488 | M14: =Assumptions!M29 -> 310.08498 | N14: =Assumptions!N29 -> 316.28668
J15: =Assumptions!J30 -> 0 | K15: =Assumptions!K30 -> 0 | L15: =Assumptions!L30 -> 0 | M15: =Assumptions!M30 -> 0 | N15: =Assumptions!N30 -> 0
B16: =Assumptions!B31 -> Fixed Costs | D16: =Assumptions!D31 -> 0 | J16: =Assumptions!J31 -> 0 | K16: =Assumptions!K31 -> 0 | L16: =Assumptions!L31 -> 0 | M16: =Assumptions!M31 -> 0 | N16: =Assumptions!N31 -> 0
B17: =Assumptions!B32 -> Rent | D17: =Assumptions!D32 -> $m | J17: =Assumptions!J32 -> 23.5 | K17: =Assumptions!K32 -> 23.97 | L17: =Assumptions!L32 -> 24.4494 | M17: =Assumptions!M32 -> 24.938388 | N17: =Assumptions!N32 -> 25.437156
B18: =Assumptions!B33 -> Operating Labour | D18: =Assumptions!D33 -> $m | J18: =Assumptions!J33 -> 43.5 | K18: =Assumptions!K33 -> 44.37 | L18: =Assumptions!L33 -> 45.2574 | M18: =Assumptions!M33 -> 46.162548 | N18: =Assumptions!N33 -> 47.085799
B19: =Assumptions!B34 -> Other | D19: =Assumptions!D34 -> $m | J19: =Assumptions!J34 -> 2 | K19: =Assumptions!K34 -> 2.04 | L19: =Assumptions!L34 -> 2.0808 | M19: =Assumptions!M34 -> 2.122416 | N19: =Assumptions!N34 -> 2.1648643
B20: =Assumptions!B35 -> Total Fixed Costs | D20: =Assumptions!D35 -> 0 | J20: =Assumptions!J35 -> 69 | K20: =Assumptions!K35 -> 70.38 | L20: =Assumptions!L35 -> 71.7876 | M20: =Assumptions!M35 -> 73.223352 | N20: =Assumptions!N35 -> 74.687819
J21: =Assumptions!J36 -> 0 | K21: =Assumptions!K36 -> 0 | L21: =Assumptions!L36 -> 0 | M21: =Assumptions!M36 -> 0 | N21: =Assumptions!N36 -> 0
B22: =Assumptions!B37 -> SG&A | D22: =Assumptions!D37 -> $m | J22: =Assumptions!J37 -> 3.9 | K22: =Assumptions!K37 -> 3.978 | L22: =Assumptions!L37 -> 4.05756 | M22: =Assumptions!M37 -> 4.1387112 | N22: =Assumptions!N37 -> 4.2214854
B25: Calculations
B26: Variable cost | D26: $ per unit | J26: =J14 -> 292.2 | K26: =K14 -> 298.044 | L26: =L14 -> 304.00488 | M26: =M14 -> 310.08498 | N26: =N14 -> 316.28668
B27: Total Sales volume in 2018 | D27: units | J27: =Revenue!J22 -> 361693.55 | K27: =Revenue!K22 -> 376161.29 | L27: =Revenue!L22 -> 391207.74 | M27: =Revenue!M22 -> 406856.05 | N27: =Revenue!N22 -> 420000
B29: Total Variable cost | D29: $m | J29: =(J27*J26)/m -> 105.68685 | K29: =(K27*K26)/m -> 112.11262 | L29: =(L27*L26)/m -> 118.92906 | M29: =(M27*M26)/m -> 126.15995 | N29: =(N27*N26)/m -> 132.8404
B30: Fixed Cost | D30: $m | J30: =J20 -> 69 | K30: =K20 -> 70.38 | L30: =L20 -> 71.7876 | M30: =M20 -> 73.223352 | N30: =N20 -> 74.687819
B31: Total COGS | D31: $m | J31: =SUM(J29:J30) -> 174.68685 | K31: =SUM(K29:K30) -> 182.49262 | L31: =SUM(L29:L30) -> 190.71666 | M31: =SUM(M29:M30) -> 199.3833 | N31: =SUM(N29:N30) -> 207.52822
B33: SG&A | J33: =J22 -> 3.9 | K33: =K22 -> 3.978 | L33: =L22 -> 4.05756 | M33: =M22 -> 4.1387112 | N33: =N22 -> 4.2214854

Sheet Depn
A1: ="RUNNING SCENARIO "&Scenario -> RUNNING SCENARIO
B2: Henderson Manufacturing
B3: Depreciation
B5: ($ Millions)
G6: ACTUAL | J6: PROJECTIONS
G7: 2015 | H7: =G7+1 -> 2016 | I7: =H7+1 -> 2017 | J7: =I7+1 -> 2018 | K7: =J7+1 -> 2019 | L7: =K7+1 -> 2020 | M7: =L7+1 -> 2021 | N7: =M7+1 -> 2022
D9: UNITS
A10: =Assumptions!A40 -> CAPEX & DEPRECIATION ASSUMPTIONS
B11: =Assumptions!B41 -> New capex | D11: =Assumptions!D41 -> $m | J11: =Assumptions!J41 -> 16 | K11: =Assumptions!K41 -> 17 | L11: =Assumptions!L41 -> 17.3 | M11: =Assumptions!M41 -> 17.5 | N11: =Assumptions!N41 -> 18
A12: =Assumptions!A42 -> Straight-line depreciation is used
B13: =Assumptions!B43 -> Useful Life
B14: =Assumptions!B44 -> Existing assets | C14: =Assumptions!C44 -> 25 | D14: =Assumptions!D44 -> years
B15: =Assumptions!B45 -> New assets | C15: =Assumptions!C45 -> 30 | D15: =Assumptions!D45 -> years
B17: PP&E | I17: ='Fin Stat'!I85 -> 397.7 | J17: =I17 -> 397.7 | K17: =J17 -> 397.7 | L17: =K17 -> 397.7 | M17: =L17 -> 397.7 | N17: =M17 -> 397.7
B18: Depn on existing assets | J18: =J17/$C$14 -> 15.908 | K18: =K17/$C$14 -> 15.908 | L18: =L17/$C$14 -> 15.908 | M18: =M17/$C$14 -> 15.908 | N18: =N17/$C$14 -> 15.908
B20: Depreciation Waterfall
B21: Years | C21: Capex spend
B22: {=TRANSPOSE(J7:N7)} -> 2018 | C22: {=TRANSPOSE(J11:N11)} -> 16 | J22: =IF(AND(J$7>=$B22,J$7<=$B22+$C$15),$C22/$C$15,0)/IF(OR(J$7=$B22,J$7=$B22+$C$15),2,1) -> 0.26666667 | K22: =IF(AND(K$7>=$B22,K$7<=$B22+$C$15),$C22/$C$15,0)/IF(OR(K$7=$B22,K$7=$B22+$C$15),2,1) -> 0.53333333 | L22: =IF(AND(L$7>=$B22,L$7<=$B22+$C$15),$C22/$C$15,0)/IF(OR(L$7=$B22,L$7=$B22+$C$15),2,1) -> 0.53333333 | M22: =IF(AND(M$7>=$B22,M$7<=$B22+$C$15),$C22/$C$15,0)/IF(OR(M$7=$B22,M$7=$B22+$C$15),2,1) -> 0.53333333 | N22: =IF(AND(N$7>=$B22,N$7<=$B22+$C$15),$C22/$C$15,0)/IF(OR(N$7=$B22,N$7=$B22+$C$15),2,1) -> 0.53333333
B23: 2019 | C23: 17 | J23: =IF(AND(J$7>=$B23,J$7<=$B23+$C$15),$C23/$C$15,0)/IF(OR(J$7=$B23,J$7=$B23+$C$15),2,1) -> 0 | K23: =IF(AND(K$7>=$B23,K$7<=$B23+$C$15),$C23/$C$15,0)/IF(OR(K$7=$B23,K$7=$B23+$C$15),2,1) -> 0.28333333 | L23: =IF(AND(L$7>=$B23,L$7<=$B23+$C$15),$C23/$C$15,0)/IF(OR(L$7=$B23,L$7=$B23+$C$15),2,1) -> 0.56666667 | M23: =IF(AND(M$7>=$B23,M$7<=$B23+$C$15),$C23/$C$15,0)/IF(OR(M$7=$B23,M$7=$B23+$C$15),2,1) -> 0.56666667 | N23: =IF(AND(N$7>=$B23,N$7<=$B23+$C$15),$C23/$C$15,0)/IF(OR(N$7=$B23,N$7=$B23+$C$15),2,1) -> 0.56666667
B24: 2020 | C24: 17.3 | J24: =IF(AND(J$7>=$B24,J$7<=$B24+$C$15),$C24/$C$15,0)/IF(OR(J$7=$B24,J$7=$B24+$C$15),2,1) -> 0 | K24: =IF(AND(K$7>=$B24,K$7<=$B24+$C$15),$C24/$C$15,0)/IF(OR(K$7=$B24,K$7=$B24+$C$15),2,1) -> 0 | L24: =IF(AND(L$7>=$B24,L$7<=$B24+$C$15),$C24/$C$15,0)/IF(OR(L$7=$B24,L$7=$B24+$C$15),2,1) -> 0.28833333 | M24: =IF(AND(M$7>=$B24,M$7<=$B24+$C$15),$C24/$C$15,0)/IF(OR(M$7=$B24,M$7=$B24+$C$15),2,1) -> 0.57666667 | N24: =IF(AND(N$7>=$B24,N$7<=$B24+$C$15),$C24/$C$15,0)/IF(OR(N$7=$B24,N$7=$B24+$C$15),2,1) -> 0.57666667
B25: 2021 | C25: 17.5 | J25: =IF(AND(J$7>=$B25,J$7<=$B25+$C$15),$C25/$C$15,0)/IF(OR(J$7=$B25,J$7=$B25+$C$15),2,1) -> 0 | K25: =IF(AND(K$7>=$B25,K$7<=$B25+$C$15),$C25/$C$15,0)/IF(OR(K$7=$B25,K$7=$B25+$C$15),2,1) -> 0 | L25: =IF(AND(L$7>=$B25,L$7<=$B25+$C$15),$C25/$C$15,0)/IF(OR(L$7=$B25,L$7=$B25+$C$15),2,1) -> 0 | M25: =IF(AND(M$7>=$B25,M$7<=$B25+$C$15),$C25/$C$15,0)/IF(OR(M$7=$B25,M$7=$B25+$C$15),2,1) -> 0.29166667 | N25: =IF(AND(N$7>=$B25,N$7<=$B25+$C$15),$C25/$C$15,0)/IF(OR(N$7=$B25,N$7=$B25+$C$15),2,1) -> 0.58333333
B26: 2022 | C26: 18 | J26: =IF(AND(J$7>=$B26,J$7<=$B26+$C$15),$C26/$C$15,0)/IF(OR(J$7=$B26,J$7=$B26+$C$15),2,1) -> 0 | K26: =IF(AND(K$7>=$B26,K$7<=$B26+$C$15),$C26/$C$15,0)/IF(OR(K$7=$B26,K$7=$B26+$C$15),2,1) -> 0 | L26: =IF(AND(L$7>=$B26,L$7<=$B26+$C$15),$C26/$C$15,0)/IF(OR(L$7=$B26,L$7=$B26+$C$15),2,1) -> 0 | M26: =IF(AND(M$7>=$B26,M$7<=$B26+$C$15),$C26/$C$15,0)/IF(OR(M$7=$B26,M$7=$B26+$C$15),2,1) -> 0 | N26: =IF(AND(N$7>=$B26,N$7<=$B26+$C$15),$C26/$C$15,0)/IF(OR(N$7=$B26,N$7=$B26+$C$15),2,1) -> 0.3
B27: Depn on new capex | J27: =SUM(J22:J26) -> 0.26666667 | K27: =SUM(K22:K26) -> 0.81666667 | L27: =SUM(L22:L26) -> 1.3883333 | M27: =SUM(M22:M26) -> 1.9683333 | N27: =SUM(N22:N26) -> 2.56
B28: TOTAL DEPRECIATION | J28: =J18+J27 -> 16.174667 | K28: =K18+K27 -> 16.724667 | L28: =L18+L27 -> 17.296333 | M28: =M18+M27 -> 17.876333 | N28: =N18+N27 -> 18.468

Sheet WC
A1: ="RUNNING SCENARIO "&Scenario -> RUNNING SCENARIO
B2: Henderson Manufacturing
B3: Working Capital
B5: ($ Millions)
G6: ACTUAL | J6: PROJECTIONS
G7: 2015 | H7: =G7+1 -> 2016 | I7: =H7+1 -> 2017 | J7: =I7+1 -> 2018 | K7: =J7+1 -> 2019 | L7: =K7+1 -> 2020 | M7: =L7+1 -> 2021 | N7: =M7+1 -> 2022
D9: UNITS

Sheet Debt
A1: ="RUNNING SCENARIO "&Scenario -> RUNNING SCENARIO
B2: Henderson Manufacturing
B3: Debt
B5: ($ Millions)
G6: ACTUAL | J6: PROJECTIONS
G7: 2015 | H7: =G7+1 -> 2016 | I7: =H7+1 -> 2017 | J7: =I7+1 -> 2018 | K7: =J7+1 -> 2019 | L7: =K7+1 -> 2020 | M7: =L7+1 -> 2021 | N7: =M7+1 -> 2022
D9: UNITS

Sheet Tax
A1: ="RUNNING SCENARIO "&Scenario -> RUNNING SCENARIO
B2: Henderson Manufacturing
B3: Tax
B5: ($ Millions)
G6: ACTUAL | J6: PROJECTIONS
G7: 2015 | H7: =G7+1 -> 2016 | I7: =H7+1 -> 2017 | J7: =I7+1 -> 2018 | K7: =J7+1 -> 2019 | L7: =K7+1 -> 2020 | M7: =L7+1 -> 2021 | N7: =M7+1 -> 2022
D9: UNITS

Sheet Equity
A1: ="RUNNING SCENARIO "&Scenario -> RUNNING SCENARIO
B2: Henderson Manufacturing
B3: Equity
B5: ($ Millions)
G6: ACTUAL | J6: PROJECTIONS
G7: 2015 | H7: =G7+1 -> 2016 | I7: =H7+1 -> 2017 | J7: =I7+1 -> 2018 | K7: =J7+1 -> 2019 | L7: =K7+1 -> 2020 | M7: =L7+1 -> 2021 | N7: =M7+1 -> 2022
D9: UNITS
